BEGIN:VCALENDAR
VERSION:2.0
PRODID:-//LES ARTS EN BALADE A TOULOUSE - ECPv6.15.20//NONSGML v1.0//EN
CALSCALE:GREGORIAN
METHOD:PUBLISH
X-WR-CALNAME:LES ARTS EN BALADE A TOULOUSE
X-ORIGINAL-URL:https://aeb.d-marheine.com
X-WR-CALDESC:Évènements pour LES ARTS EN BALADE A TOULOUSE
REFRESH-INTERVAL;VALUE=DURATION:PT1H
X-Robots-Tag:noindex
X-PUBLISHED-TTL:PT1H
BEGIN:VTIMEZONE
TZID:Europe/Paris
BEGIN:DAYLIGHT
TZOFFSETFROM:+0100
TZOFFSETTO:+0200
TZNAME:CEST
DTSTART:20220327T010000
END:DAYLIGHT
BEGIN:STANDARD
TZOFFSETFROM:+0200
TZOFFSETTO:+0100
TZNAME:CET
DTSTART:20221030T010000
END:STANDARD
BEGIN:DAYLIGHT
TZOFFSETFROM:+0100
TZOFFSETTO:+0200
TZNAME:CEST
DTSTART:20230326T010000
END:DAYLIGHT
BEGIN:STANDARD
TZOFFSETFROM:+0200
TZOFFSETTO:+0100
TZNAME:CET
DTSTART:20231029T010000
END:STANDARD
BEGIN:DAYLIGHT
TZOFFSETFROM:+0100
TZOFFSETTO:+0200
TZNAME:CEST
DTSTART:20240331T010000
END:DAYLIGHT
BEGIN:STANDARD
TZOFFSETFROM:+0200
TZOFFSETTO:+0100
TZNAME:CET
DTSTART:20241027T010000
END:STANDARD
END:VTIMEZONE
BEGIN:VEVENT
DTSTART;VALUE=DATE:20230602
DTEND;VALUE=DATE:20230925
DTSTAMP:20260425T151211
CREATED:20220813T170015Z
LAST-MODIFIED:20230506T200734Z
UID:23113-1685664000-1695599999@aeb.d-marheine.com
SUMMARY:Exposition Speranza\, Collectif Mardis-gras\, Les Olivétains
DESCRIPTION:Titos Kontou\, Judith Latino et Emilie Payros ont uni leur savoir-faire\, style et imaginaire pour engendrer Mardis-gras\, un.e artiste hybride. Leur peinture syncrétique combine « les expressionnismes » avec la mythologie\, la bible et les images populaires. Ce monde est empli d’humour et de beauté macabres. Ici\, l’enfer côtoie l’éden. Un chaos festif où l’humanité cherche sa place\, lutte et s’harmonise avec elle-même et la nature. \nL’exposition Speranza de Mardis gras présentée en automne 2022 à la Galerie 3.1 est reprise aux Olivétains à Saint-Bertrand-de-Comminges durant l’été 2023. \nVernissage le 10 juin 2023. \n 
URL:https://aeb.d-marheine.com/event/vernissage-exposition-speranza-collectif-mardis-gras/
LOCATION:31510  Saint Bertrand de Comminges\, 1 parvis de la cathédrale\, Saint Bertrand de Comminges\, 31510 \, France
CATEGORIES:Evénements associés
END:VEVENT
BEGIN:VEVENT
DTSTART;VALUE=DATE:20230907
DTEND;VALUE=DATE:20231126
DTSTAMP:20260425T151211
CREATED:20230629T074723Z
LAST-MODIFIED:20230801T080126Z
UID:29099-1694044800-1700956799@aeb.d-marheine.com
SUMMARY:Exposition collective : Sur terre\, en mer et dans le ciel\, La Galerie 3.1
DESCRIPTION:Un voyage\, un tour du monde pour retrouver les forces en présence. Quelles vies ? Quels temps ? Quels espaces ? Faire germer des fils invisibles\, lier les chemins\, découvrir d’autres rivages et rejoindre une autre réalité. Bon vent ? Chercher encore. S’élancer\, danser\, aimer. Divaguer ? Une croisière\, douce et houleuse\, pour suivre nos routes. M’avez-vous vu déjà quelque part ? Sur terre\, en mer et dans le ciel. \nJacqueline Delpy\, Marilina Prigent\, Christelle Richard-Dauphinot\, Valérie Vial\nDU 7 SEPTEMBRE AU 25 NOVEMBRE 2023 \nGalerie 3.1 (du Conseil départemental de la Haute-Garonne)\n7\, Rue Jules Chalande\, 31000 Toulouse \nVernissage le 14 septembre
URL:https://aeb.d-marheine.com/event/exposition-collective-voyages-et-errances/
LOCATION:Galerie 3.1\, 7\, rue Jules Chalande 31000 Toulouse\, 7\, rue Jules Chalande\, 31000 Toulouse
CATEGORIES:Evénements associés
ORGANIZER;CN="Association Les Arts en Balade %C3%A0 Toulouse":MAILTO:lesartsenbalade.toulouse@gmail.com
END:VEVENT
END:VCALENDAR