BEGIN:VCALENDAR
VERSION:2.0
PRODID:-//LES ARTS EN BALADE A TOULOUSE - ECPv6.15.20//NONSGML v1.0//EN
CALSCALE:GREGORIAN
METHOD:PUBLISH
X-ORIGINAL-URL:https://aeb.d-marheine.com
X-WR-CALDESC:Évènements pour LES ARTS EN BALADE A TOULOUSE
REFRESH-INTERVAL;VALUE=DURATION:PT1H
X-Robots-Tag:noindex
X-PUBLISHED-TTL:PT1H
BEGIN:VTIMEZONE
TZID:Europe/Paris
BEGIN:DAYLIGHT
TZOFFSETFROM:+0100
TZOFFSETTO:+0200
TZNAME:CEST
DTSTART:20220327T010000
END:DAYLIGHT
BEGIN:STANDARD
TZOFFSETFROM:+0200
TZOFFSETTO:+0100
TZNAME:CET
DTSTART:20221030T010000
END:STANDARD
BEGIN:DAYLIGHT
TZOFFSETFROM:+0100
TZOFFSETTO:+0200
TZNAME:CEST
DTSTART:20230326T010000
END:DAYLIGHT
BEGIN:STANDARD
TZOFFSETFROM:+0200
TZOFFSETTO:+0100
TZNAME:CET
DTSTART:20231029T010000
END:STANDARD
BEGIN:DAYLIGHT
TZOFFSETFROM:+0100
TZOFFSETTO:+0200
TZNAME:CEST
DTSTART:20240331T010000
END:DAYLIGHT
BEGIN:STANDARD
TZOFFSETFROM:+0200
TZOFFSETTO:+0100
TZNAME:CET
DTSTART:20241027T010000
END:STANDARD
END:VTIMEZONE
BEGIN:VEVENT
DTSTART;VALUE=DATE:20231005
DTEND;VALUE=DATE:20231016
DTSTAMP:20260425T163217
CREATED:20231003T184725Z
LAST-MODIFIED:20231004T161025Z
UID:29883-1696464000-1697414399@aeb.d-marheine.com
SUMMARY:Exposition au Falcou (Colomiers)
DESCRIPTION:Le week-end AEB se prolonge au Domaine du Falcou jusqu’au dimanche 15 octobre.\n 22\, chemin de la Passerelle\, 31770 Colomiers \nArtistes présents : ESSA (Serge Allain)\, Louis Viel et Didier Genévrier (exposition invitée de photos des chais de Bercy avant les travaux de réaménagement prises l’été 1977). \nDu jeudi 5/10 au samedi 7/10 de 14h à 18h\nDimanche 2/10 de 12h à 18h\nDu jeudi 12/10 au samedi 14/10 de 14h à 18h\nDimanche 15/10 de 12h à 19h \nAnimation pour le finissage le dimanche 15/10 avec repas champêtre (participation 15€\, gratuit pour les enfants) et lectures.\nInscription nécessaire pour le repas\, Tél : 0688054843 \nPROGRAMME 15 octobre au Falcou \n\nDe 12 à 15 heures – Repas champêtre ( grillades et boissons) à la guinguette\ndu théâtre de verdure. Ambiance musicale et festivités.\nInscription nécessaire pour le repas Tél : 0688054843\nDe 15 à 17 heures – Echange avec les artistes et découverte du Parc.\n17 heures – Présentation par Louis Vieil de son travail photographique sur le\nthème de l’eau accompagné d’une lecture poétique par son auteur.\n19 heures – Fin des festivités autour d’un pot de l’amitié.
URL:https://aeb.d-marheine.com/event/exposition-au-falcou-colomiers/
LOCATION:Domaine du Falcou\, 22 Chemin de la Passerelle\, Colomiers\, 31770
CATEGORIES:Organisés par AEB
END:VEVENT
BEGIN:VEVENT
DTSTART;TZID=Europe/Paris:20231006T110000
DTEND;TZID=Europe/Paris:20231008T190000
DTSTAMP:20260425T163217
CREATED:20231002T083434Z
LAST-MODIFIED:20231002T083851Z
UID:29869-1696590000-1696791600@aeb.d-marheine.com
SUMMARY:Exposition au Réservoir (rue Garrigou)
DESCRIPTION: 
URL:https://aeb.d-marheine.com/event/exposition-au-reservoir-rue-garrigou/
LOCATION:Réservoir rue Garigou\, 7 rue Garrigou\, Toulouse\, 31500\, France
CATEGORIES:Organisés par AEB
END:VEVENT
END:VCALENDAR