BEGIN:VCALENDAR
VERSION:2.0
PRODID:-//LES ARTS EN BALADE A TOULOUSE - ECPv6.15.20//NONSGML v1.0//EN
CALSCALE:GREGORIAN
METHOD:PUBLISH
X-ORIGINAL-URL:https://aeb.d-marheine.com
X-WR-CALDESC:Évènements pour LES ARTS EN BALADE A TOULOUSE
REFRESH-INTERVAL;VALUE=DURATION:PT1H
X-Robots-Tag:noindex
X-PUBLISHED-TTL:PT1H
BEGIN:VTIMEZONE
TZID:Europe/Paris
BEGIN:DAYLIGHT
TZOFFSETFROM:+0100
TZOFFSETTO:+0200
TZNAME:CEST
DTSTART:20230326T010000
END:DAYLIGHT
BEGIN:STANDARD
TZOFFSETFROM:+0200
TZOFFSETTO:+0100
TZNAME:CET
DTSTART:20231029T010000
END:STANDARD
BEGIN:DAYLIGHT
TZOFFSETFROM:+0100
TZOFFSETTO:+0200
TZNAME:CEST
DTSTART:20240331T010000
END:DAYLIGHT
BEGIN:STANDARD
TZOFFSETFROM:+0200
TZOFFSETTO:+0100
TZNAME:CET
DTSTART:20241027T010000
END:STANDARD
BEGIN:DAYLIGHT
TZOFFSETFROM:+0100
TZOFFSETTO:+0200
TZNAME:CEST
DTSTART:20250330T010000
END:DAYLIGHT
BEGIN:STANDARD
TZOFFSETFROM:+0200
TZOFFSETTO:+0100
TZNAME:CET
DTSTART:20251026T010000
END:STANDARD
END:VTIMEZONE
BEGIN:VEVENT
DTSTART;VALUE=DATE:20240103
DTEND;VALUE=DATE:20240302
DTSTAMP:20260423T095428
CREATED:20231212T144822Z
LAST-MODIFIED:20231212T145809Z
UID:30381-1704240000-1709337599@aeb.d-marheine.com
SUMMARY:Candidatures pour les éditions 2024 et 2025
DESCRIPTION:Le principe de la manifestation « Arts en Balade à Toulouse et alentours » consiste en l’ouverture d’ateliers individuels ou collectifs d’artistes plasticiens\, y compris photographes\, graffeurs et vidéastes\, de la ville de Toulouse et des environs. Les artistes participants s’acquittent d’un droit de participation. \nLes artistes s’engagent à être présents pendant la durée de la manifestation\, tandis que l’association s’engage à organiser et à relayer le plus largement possible la communication essentielle à son bon déroulement auprès des médias\, du grand public et des participants. \nLa sélection par un jury des participants à la manifestation\, organisée le dernier week-end de septembre\, a lieu tous les deux ans. Les candidatures peuvent concerner les années 2024 et/ou 2025. \n Edition 2024 du samedi 28/09/2024 au dimanche 29/09/2024 \nEdition 2025 du samedi 27/09/2025 au dimanche 28/09/2025
URL:https://aeb.d-marheine.com/event/candidatures-pour-les-edition-2024-et-2025/
CATEGORIES:Organisés par AEB
ORGANIZER;CN="Association Les Arts en Balade %C3%A0 Toulouse":MAILTO:lesartsenbalade.toulouse@gmail.com
END:VEVENT
END:VCALENDAR