BEGIN:VCALENDAR
VERSION:2.0
PRODID:-//LES ARTS EN BALADE A TOULOUSE - ECPv6.15.20//NONSGML v1.0//EN
CALSCALE:GREGORIAN
METHOD:PUBLISH
X-ORIGINAL-URL:https://aeb.d-marheine.com
X-WR-CALDESC:Évènements pour LES ARTS EN BALADE A TOULOUSE
REFRESH-INTERVAL;VALUE=DURATION:PT1H
X-Robots-Tag:noindex
X-PUBLISHED-TTL:PT1H
BEGIN:VTIMEZONE
TZID:Europe/Paris
BEGIN:DAYLIGHT
TZOFFSETFROM:+0100
TZOFFSETTO:+0200
TZNAME:CEST
DTSTART:20230326T010000
END:DAYLIGHT
BEGIN:STANDARD
TZOFFSETFROM:+0200
TZOFFSETTO:+0100
TZNAME:CET
DTSTART:20231029T010000
END:STANDARD
BEGIN:DAYLIGHT
TZOFFSETFROM:+0100
TZOFFSETTO:+0200
TZNAME:CEST
DTSTART:20240331T010000
END:DAYLIGHT
BEGIN:STANDARD
TZOFFSETFROM:+0200
TZOFFSETTO:+0100
TZNAME:CET
DTSTART:20241027T010000
END:STANDARD
BEGIN:DAYLIGHT
TZOFFSETFROM:+0100
TZOFFSETTO:+0200
TZNAME:CEST
DTSTART:20250330T010000
END:DAYLIGHT
BEGIN:STANDARD
TZOFFSETFROM:+0200
TZOFFSETTO:+0100
TZNAME:CET
DTSTART:20251026T010000
END:STANDARD
END:VTIMEZONE
BEGIN:VEVENT
DTSTART;VALUE=DATE:20240909
DTEND;VALUE=DATE:20241013
DTSTAMP:20260423T010744
CREATED:20240604T123204Z
LAST-MODIFIED:20240604T194135Z
UID:32222-1725840000-1728777599@aeb.d-marheine.com
SUMMARY:Le Grand Moribond en avant (Pierre Samson)
DESCRIPTION:Librairie Ombres Blanches \n50 rue Gambetta \n\nExposition Café Côté Cour : Le Grand Moribond en avant. Pierre Samson (dessin)\n\n\n9 septembre – 12 octobre 2024.\nVernissage mardi 24 septembre à 18h
URL:https://aeb.d-marheine.com/event/le-grand-moribond-en-avant-pierre-samson/
LOCATION:Librairie Ombres blanches 50 rue Gambetta\, 31000 Toulouse
CATEGORIES:Organisés par AEB
ORGANIZER;CN="Association Les Arts en Balade %C3%A0 Toulouse":MAILTO:lesartsenbalade.toulouse@gmail.com
END:VEVENT
END:VCALENDAR